BEGIN:VCALENDAR
VERSION:2.0
PRODID:-//postgresqleu/confreg//NONSGML v1.0//EN
BEGIN:VEVENT
UID:81@pgdayuk2024
DTSTART:20240911T074500Z
DTEND:20240911T075500Z
DTSTAMP:20240911T073425Z
SUMMARY:Welcome and Opening (Dave Page)
LOCATION:Auditorium
URL:https://pgday.uk/events/pgdayuk2024/schedule/session/81/
END:VEVENT
BEGIN:VEVENT
UID:144@pgdayuk2024
DTSTART:20240911T080000Z
DTEND:20240911T085000Z
DTSTAMP:20240911T074926Z
SUMMARY:A look at the Elephant&#x27;s trunk - PostgreSQL 17 (Magnus Hagander)
LOCATION:Auditorium
URL:https://pgday.uk/events/pgdayuk2024/schedule/session/144/
END:VEVENT
BEGIN:VEVENT
UID:130@pgdayuk2024
DTSTART:20240911T090000Z
DTEND:20240911T095000Z
DTSTAMP:20240911T084929Z
SUMMARY:Mastering PostgreSQL Partitioning: Supercharge Performance and Simplify Maintenance (Ryan Booz)
LOCATION:Auditorium
URL:https://pgday.uk/events/pgdayuk2024/schedule/session/130/
END:VEVENT
BEGIN:VEVENT
UID:120@pgdayuk2024
DTSTART:20240911T101000Z
DTEND:20240911T110000Z
DTSTAMP:20240911T095934Z
SUMMARY:Ditch Elasticsearch and Use a Real Database for Full Text Search (Jimmy Angelakos)
LOCATION:Auditorium
URL:https://pgday.uk/events/pgdayuk2024/schedule/session/120/
END:VEVENT
BEGIN:VEVENT
UID:122@pgdayuk2024
DTSTART:20240911T111000Z
DTEND:20240911T120000Z
DTSTAMP:20240911T105939Z
SUMMARY:Take your pgBadger usage to the next level: discover the potential of Postgres for log analysis like never before! (Henrietta Dombrovskaya)
LOCATION:Auditorium
URL:https://pgday.uk/events/pgdayuk2024/schedule/session/122/
END:VEVENT
BEGIN:VEVENT
UID:155@pgdayuk2024
DTSTART:20240911T124000Z
DTEND:20240911T133000Z
DTSTAMP:20240911T122944Z
SUMMARY:Achieving minimal downtime in PostgreSQL maintenance tasks (Stefan Fercot)
LOCATION:Auditorium
URL:https://pgday.uk/events/pgdayuk2024/schedule/session/155/
END:VEVENT
BEGIN:VEVENT
UID:87@pgdayuk2024
DTSTART:20240911T134000Z
DTEND:20240911T143000Z
DTSTAMP:20240911T132947Z
SUMMARY:Bringing Transparent Data Encryption to Postgres (Alastair Turner)
LOCATION:Auditorium
URL:https://pgday.uk/events/pgdayuk2024/schedule/session/87/
END:VEVENT
BEGIN:VEVENT
UID:158@pgdayuk2024
DTSTART:20240911T145000Z
DTEND:20240911T154000Z
DTSTAMP:20240911T143951Z
SUMMARY:Vectors: Building support for a nasty data type (Jonathan Katz)
LOCATION:Auditorium
URL:https://pgday.uk/events/pgdayuk2024/schedule/session/158/
END:VEVENT
BEGIN:VEVENT
UID:85@pgdayuk2024
DTSTART:20240911T154500Z
DTEND:20240911T160000Z
DTSTAMP:20240911T153455Z
SUMMARY:Closing Remarks (Dave Page)
LOCATION:Auditorium
URL:https://pgday.uk/events/pgdayuk2024/schedule/session/85/
END:VEVENT
END:VCALENDAR
